BEGIN:VCALENDAR
VERSION:2.0
PRODID:-//Liffey Partnership - ECPv6.15.20//NONSGML v1.0//EN
CALSCALE:GREGORIAN
METHOD:PUBLISH
X-WR-CALNAME:Liffey Partnership
X-ORIGINAL-URL:https://liffeypartnership.ie
X-WR-CALDESC:Events for Liffey Partnership
REFRESH-INTERVAL;VALUE=DURATION:PT1H
X-Robots-Tag:noindex
X-PUBLISHED-TTL:PT1H
BEGIN:VTIMEZONE
TZID:Europe/Dublin
BEGIN:STANDARD
TZOFFSETFROM:+0000
TZOFFSETTO:+0100
TZNAME:IST
DTSTART:20240331T010000
END:STANDARD
BEGIN:DAYLIGHT
TZOFFSETFROM:+0100
TZOFFSETTO:+0000
TZNAME:GMT
DTSTART:20241027T010000
END:DAYLIGHT
BEGIN:STANDARD
TZOFFSETFROM:+0000
TZOFFSETTO:+0100
TZNAME:IST
DTSTART:20250330T010000
END:STANDARD
BEGIN:DAYLIGHT
TZOFFSETFROM:+0100
TZOFFSETTO:+0000
TZNAME:GMT
DTSTART:20251026T010000
END:DAYLIGHT
BEGIN:STANDARD
TZOFFSETFROM:+0000
TZOFFSETTO:+0100
TZNAME:IST
DTSTART:20260329T010000
END:STANDARD
BEGIN:DAYLIGHT
TZOFFSETFROM:+0100
TZOFFSETTO:+0000
TZNAME:GMT
DTSTART:20261025T010000
END:DAYLIGHT
END:VTIMEZONE
BEGIN:VEVENT
DTSTART;TZID=Europe/Dublin:20251015T180000
DTEND;TZID=Europe/Dublin:20251015T200000
DTSTAMP:20260425T195025
CREATED:20250904T141858Z
LAST-MODIFIED:20250904T152603Z
UID:10000695-1760551200-1760558400@liffeypartnership.ie
SUMMARY:Endometriosis: Chronic Period Pain\, Fertility and Navigating the System
DESCRIPTION:Join us at Familibase on October 15th for an evening of understanding the experiences and supports for women and girls with Endometriosis. \n100s of women and girls in Ballyfermot suffer with extreme period pain\, fertility concerns and finding support in our Healthcare system. Many aren’t heard or given inaccurate advice which can fail to validate their experience. Endometriosis is a chronic inflammatory disease estimated to affect 10% (190 million) girls\, women and individuals worldwide. It occurs where tissue similar to the lining of the womb (uterus) is found elsewhere in the body and can manifest in many different ways\, making it difficult to diagnose and treat. The difficulties in diagnosing often leaves patients to continue suffering without treatment or be misdiagnosed. Pain can be extreme and the fear of infertility can weigh heavily on patients. \nThis event\, Endometriosis: Chronic Period Pain\, Fertility and Navigating the System\, explains what Endometriosis is and how you can find help. We will learn of the experience of Endo patients in the award-winning documentary ‘Below the Belt’ before we listen to a panel discussion with patients and specialists in the Irish system. \nEvent details: \n\nVenue: Familibase\, Blackditch Road\, Ballyfermot\nTime: 6pm-8pm\nDate: October 15th\nUnderstand Endometriosis from sufferers and specialists\nHear from our expert panel about how to access care\n\n**The topic of Endometriosis might trigger difficult emotions for some attendees so we ask everyone to approach from a place of compassion.
URL:https://liffeypartnership.ie/events/endometriosis-chronic-period-pain-fertility-and-navigating-the-system/
LOCATION:Familibase\, Blackditch Road\, Dublin 10
ORGANIZER;CN="Amy Ryan":MAILTO:aryan@liffeypartnership.ie
END:VEVENT
END:VCALENDAR