BEGIN:VCALENDAR
VERSION:2.0
PRODID:-//Liffey Partnership - ECPv6.15.20//NONSGML v1.0//EN
CALSCALE:GREGORIAN
METHOD:PUBLISH
X-WR-CALNAME:Liffey Partnership
X-ORIGINAL-URL:https://liffeypartnership.ie
X-WR-CALDESC:Events for Liffey Partnership
REFRESH-INTERVAL;VALUE=DURATION:PT1H
X-Robots-Tag:noindex
X-PUBLISHED-TTL:PT1H
BEGIN:VTIMEZONE
TZID:Europe/Dublin
BEGIN:STANDARD
TZOFFSETFROM:+0000
TZOFFSETTO:+0100
TZNAME:IST
DTSTART:20230326T010000
END:STANDARD
BEGIN:DAYLIGHT
TZOFFSETFROM:+0100
TZOFFSETTO:+0000
TZNAME:GMT
DTSTART:20231029T010000
END:DAYLIGHT
BEGIN:STANDARD
TZOFFSETFROM:+0000
TZOFFSETTO:+0100
TZNAME:IST
DTSTART:20240331T010000
END:STANDARD
BEGIN:DAYLIGHT
TZOFFSETFROM:+0100
TZOFFSETTO:+0000
TZNAME:GMT
DTSTART:20241027T010000
END:DAYLIGHT
BEGIN:STANDARD
TZOFFSETFROM:+0000
TZOFFSETTO:+0100
TZNAME:IST
DTSTART:20250330T010000
END:STANDARD
BEGIN:DAYLIGHT
TZOFFSETFROM:+0100
TZOFFSETTO:+0000
TZNAME:GMT
DTSTART:20251026T010000
END:DAYLIGHT
END:VTIMEZONE
BEGIN:VEVENT
DTSTART;TZID=Europe/Dublin:20241007T100000
DTEND;TZID=Europe/Dublin:20241007T123000
DTSTAMP:20260425T192114
CREATED:20240913T142804Z
LAST-MODIFIED:20240913T143149Z
UID:10000009-1728295200-1728304200@liffeypartnership.ie
SUMMARY:Your Time to Shine
DESCRIPTION:Are you parenting alone? Interested in returning to work\, education or training? Your Time to Shine is a 6-week programme providing you with information on education options\, grants\, childcare\, career guidance. We will also provide you with personal development skills\, life coaching and wellbeing! \nWhen? Starting Monday 30th September for 6 weeks\, on each Monday and Wednesday morning from 10am to 12.30pm \nWhere? Liffey Partnership\, 4 Drumfinn Park\, Ballyfermot \nContact Alison for more info
URL:https://liffeypartnership.ie/events/your-time-to-shine/2024-10-07/
LOCATION:Liffey Partnership Office\, 4 Drumfinn Park\, Ballyfermot\, Dublin 10\, D10AY66\, Ireland
ATTACH;FMTTYPE=image/png:https://liffeypartnership.ie/wp-content/uploads/2024/09/Your-Time-to-Shine-.png
ORGANIZER;CN="Alison Mulholland":MAILTO:amulholland@liffeypartnership.ie
END:VEVENT
BEGIN:VEVENT
DTSTART;TZID=Europe/Dublin:20241002T100000
DTEND;TZID=Europe/Dublin:20241002T123000
DTSTAMP:20260425T192114
CREATED:20240913T142804Z
LAST-MODIFIED:20240913T143149Z
UID:10000008-1727863200-1727872200@liffeypartnership.ie
SUMMARY:Your Time to Shine
DESCRIPTION:Are you parenting alone? Interested in returning to work\, education or training? Your Time to Shine is a 6-week programme providing you with information on education options\, grants\, childcare\, career guidance. We will also provide you with personal development skills\, life coaching and wellbeing! \nWhen? Starting Monday 30th September for 6 weeks\, on each Monday and Wednesday morning from 10am to 12.30pm \nWhere? Liffey Partnership\, 4 Drumfinn Park\, Ballyfermot \nContact Alison for more info
URL:https://liffeypartnership.ie/events/your-time-to-shine/2024-10-02/
LOCATION:Liffey Partnership Office\, 4 Drumfinn Park\, Ballyfermot\, Dublin 10\, D10AY66\, Ireland
ATTACH;FMTTYPE=image/png:https://liffeypartnership.ie/wp-content/uploads/2024/09/Your-Time-to-Shine-.png
ORGANIZER;CN="Alison Mulholland":MAILTO:amulholland@liffeypartnership.ie
END:VEVENT
BEGIN:VEVENT
DTSTART;TZID=Europe/Dublin:20240930T100000
DTEND;TZID=Europe/Dublin:20240930T123000
DTSTAMP:20260425T192114
CREATED:20240913T142804Z
LAST-MODIFIED:20240913T143149Z
UID:10000007-1727690400-1727699400@liffeypartnership.ie
SUMMARY:Your Time to Shine
DESCRIPTION:Are you parenting alone? Interested in returning to work\, education or training? Your Time to Shine is a 6-week programme providing you with information on education options\, grants\, childcare\, career guidance. We will also provide you with personal development skills\, life coaching and wellbeing! \nWhen? Starting Monday 30th September for 6 weeks\, on each Monday and Wednesday morning from 10am to 12.30pm \nWhere? Liffey Partnership\, 4 Drumfinn Park\, Ballyfermot \nContact Alison for more info
URL:https://liffeypartnership.ie/events/your-time-to-shine/2024-09-30/
LOCATION:Liffey Partnership Office\, 4 Drumfinn Park\, Ballyfermot\, Dublin 10\, D10AY66\, Ireland
ATTACH;FMTTYPE=image/png:https://liffeypartnership.ie/wp-content/uploads/2024/09/Your-Time-to-Shine-.png
ORGANIZER;CN="Alison Mulholland":MAILTO:amulholland@liffeypartnership.ie
END:VEVENT
END:VCALENDAR