BEGIN:VCALENDAR
VERSION:2.0
PRODID:-//Liffey Partnership - ECPv6.15.20//NONSGML v1.0//EN
CALSCALE:GREGORIAN
METHOD:PUBLISH
X-WR-CALNAME:Liffey Partnership
X-ORIGINAL-URL:https://liffeypartnership.ie
X-WR-CALDESC:Events for Liffey Partnership
REFRESH-INTERVAL;VALUE=DURATION:PT1H
X-Robots-Tag:noindex
X-PUBLISHED-TTL:PT1H
BEGIN:VTIMEZONE
TZID:Europe/Dublin
BEGIN:STANDARD
TZOFFSETFROM:+0000
TZOFFSETTO:+0100
TZNAME:IST
DTSTART:20240331T010000
END:STANDARD
BEGIN:DAYLIGHT
TZOFFSETFROM:+0100
TZOFFSETTO:+0000
TZNAME:GMT
DTSTART:20241027T010000
END:DAYLIGHT
BEGIN:STANDARD
TZOFFSETFROM:+0000
TZOFFSETTO:+0100
TZNAME:IST
DTSTART:20250330T010000
END:STANDARD
BEGIN:DAYLIGHT
TZOFFSETFROM:+0100
TZOFFSETTO:+0000
TZNAME:GMT
DTSTART:20251026T010000
END:DAYLIGHT
BEGIN:STANDARD
TZOFFSETFROM:+0000
TZOFFSETTO:+0100
TZNAME:IST
DTSTART:20260329T010000
END:STANDARD
BEGIN:DAYLIGHT
TZOFFSETFROM:+0100
TZOFFSETTO:+0000
TZNAME:GMT
DTSTART:20261025T010000
END:DAYLIGHT
END:VTIMEZONE
BEGIN:VEVENT
DTSTART;TZID=Europe/Dublin:20251021T133000
DTEND;TZID=Europe/Dublin:20251021T153000
DTSTAMP:20260425T165024
CREATED:20250923T114110Z
LAST-MODIFIED:20250923T114701Z
UID:10000698-1761053400-1761060600@liffeypartnership.ie
SUMMARY:🎃👻 Halloween Swap Shop – Costume Fun Without the Cost! 👻🎃
DESCRIPTION:Get Halloween-ready in a fun\, sustainable\, and budget-friendly way at our Halloween Swap Shop! Bring along your gently-used costumes and pick out something new-to-you – perfect for kids! \n✨ PLUS – Costume Repairs & Alterations Available!\nNeed a fix or a tweak? Our on-site Repair Station will help breathe new life into your spooky attire! \n🧡 WE NEED DONATIONS!\nGot old costumes lying around? We’d love to have them! Help us make this event a success by donating clean\, good-condition costumes and accessories. \n📞 Contact Ann at 087 495 0251\n📧 Or email: ageraghty@liffeypartnership.ie \n♻️ Swap\, save\, and scare in style this Halloween!
URL:https://liffeypartnership.ie/events/%f0%9f%8e%83%f0%9f%91%bb-halloween-swap-shop-costume-fun-without-the-cost-%f0%9f%91%bb%f0%9f%8e%83/
LOCATION:Orchard Community Centre\, Cherry Orchard Grove\, Cherry Orchard\,\, Dublin 10\, D10 H024\, Ireland
ORGANIZER;CN="Ann Geraghty":MAILTO:ageraghty@liffeypartnership.ie
END:VEVENT
BEGIN:VEVENT
DTSTART;TZID=Europe/Dublin:20250922T183000
DTEND;TZID=Europe/Dublin:20250922T200000
DTSTAMP:20260425T165024
CREATED:20250904T140914Z
LAST-MODIFIED:20250904T141504Z
UID:10000694-1758565800-1758571200@liffeypartnership.ie
SUMMARY:Creativity and Mental Health
DESCRIPTION:Join us for a relaxed and informal evening exploring the connection between creativity and mental health. Discover the benefits of creative practices for self-care\, learn simple ways to weave creativity into everyday life\, and take part in short interactive demos designed to spark ideas and enjoyment. We’ll also share information on local services and resources to support your wellbeing. \nRegister with Ann
URL:https://liffeypartnership.ie/events/creativity-and-mental-health/
LOCATION:Orchard Community Centre\, Cherry Orchard Grove\, Cherry Orchard\,\, Dublin 10\, D10 H024\, Ireland
ORGANIZER;CN="Ann Geraghty":MAILTO:ageraghty@liffeypartnership.ie
END:VEVENT
BEGIN:VEVENT
DTSTART;TZID=Europe/Dublin:20250916T100000
DTEND;TZID=Europe/Dublin:20251202T120000
DTSTAMP:20260425T165024
CREATED:20250904T105837Z
LAST-MODIFIED:20250904T105855Z
UID:10000693-1758016800-1764676800@liffeypartnership.ie
SUMMARY:Sewing Workshop
DESCRIPTION:🧵✨ Join our 12-week Sewing Course ✨🧵\nEvery Tuesday (2 hours) starting September 16th at 10am – perfect for beginners wanting to learn or those with experience who’d like to share their skills.\n\nIt’s not just about sewing – it’s about meeting new people\, learning together\, and building community connections 💬❤️\n\n📍 All welcome!\n📞 Contact Ann 0874950251 to book your place.
URL:https://liffeypartnership.ie/events/sewing-workshop/
LOCATION:Orchard Community Centre\, Cherry Orchard Grove\, Cherry Orchard\,\, Dublin 10\, D10 H024\, Ireland
ORGANIZER;CN="Ann Geraghty":MAILTO:ageraghty@liffeypartnership.ie
END:VEVENT
BEGIN:VEVENT
DTSTART;TZID=Europe/Dublin:20250908T183000
DTEND;TZID=Europe/Dublin:20250908T200000
DTSTAMP:20260425T165025
CREATED:20250903T085353Z
LAST-MODIFIED:20250903T085353Z
UID:10000692-1757356200-1757361600@liffeypartnership.ie
SUMMARY:Peri / Menopause - Her Health
DESCRIPTION:Catherine O’Keeffe is a Menopause Workplace Consultant\, founder of Wellness Warrior\, and creator of the Menopause Success Summit. Catherine is the author of the best seller All you need to know about menopause. Catherine hosts Ireland’s only podcast dedicated to menopause: Menopause Uprising. She helps organisations implement a comprehensive menopause strategy that leads to meaningful change. She has helped hundreds of companies choose support over silence including Workday International\, StateStreet\, Department of Health\, Sainsburys\, and Microsoft. Catherine is on a mission to shatter the menopause taboo\, for good.
URL:https://liffeypartnership.ie/events/peri-menopause-her-health/
LOCATION:Orchard Community Centre\, Cherry Orchard Grove\, Cherry Orchard\,\, Dublin 10\, D10 H024\, Ireland
ORGANIZER;CN="Ann Geraghty":MAILTO:ageraghty@liffeypartnership.ie
END:VEVENT
BEGIN:VEVENT
DTSTART;TZID=Europe/Dublin:20250721T133000
DTEND;TZID=Europe/Dublin:20250721T143000
DTSTAMP:20260425T165025
CREATED:20250625T151259Z
LAST-MODIFIED:20250625T151259Z
UID:10000681-1753104600-1753108200@liffeypartnership.ie
SUMMARY:Then & Now Photo Exhibition
DESCRIPTION:We asked local people to share photos they had of Cherry Orchard over the years – We got some fantastic photos and cannot wait to share them with you.📸 \nJoin us 21st July at 1pm in The Orchard Centre to see the display. We will have live music by the Men Shed🎵🎶 \nHope to see you there 😃 \nThe Orchard Centre\, Cherry Orchard\, D10\n21st July 2025\n1pm – 2.30pm\nMick 0879092837
URL:https://liffeypartnership.ie/events/then-now-photo-exhibition/
LOCATION:Orchard Community Centre\, Cherry Orchard Grove\, Cherry Orchard\,\, Dublin 10\, D10 H024\, Ireland
ORGANIZER;CN="Mick Kelly":MAILTO:mkelly@liffeypartnership.ie
END:VEVENT
BEGIN:VEVENT
DTSTART;TZID=Europe/Dublin:20250625T090000
DTEND;TZID=Europe/Dublin:20250930T170000
DTSTAMP:20260425T165025
CREATED:20250625T152523Z
LAST-MODIFIED:20250626T111047Z
UID:10000682-1750842000-1759251600@liffeypartnership.ie
SUMMARY:Women's Community Book Collection
DESCRIPTION:Our Women’s Community Book Collection is here! \nA borrow-and-return collection chosen by women for women \nTake a book that speaks to you — return it when you’re done so someone else can enjoy it too. \nKeep an eye out for our Book of the Week posts \nThe Orchard Centre\, Cherry Orchard Grove\, D10. \nContact Sinead 0874506057
URL:https://liffeypartnership.ie/events/womens-community-book-library/
LOCATION:Orchard Community Centre\, Cherry Orchard Grove\, Cherry Orchard\,\, Dublin 10\, D10 H024\, Ireland
ORGANIZER;CN="Sinead Moore":MAILTO:mailto:smoore@liffeypartnership.ie
END:VEVENT
BEGIN:VEVENT
DTSTART;TZID=Europe/Dublin:20250612T110000
DTEND;TZID=Europe/Dublin:20250612T120000
DTSTAMP:20260425T165025
CREATED:20250527T151332Z
LAST-MODIFIED:20250527T151332Z
UID:10000678-1749726000-1749729600@liffeypartnership.ie
SUMMARY:Mens Health Awareness
DESCRIPTION:Join us for light refreshments and a talk on men’s health with community nurse Aine Finn 👩‍🔬☕
URL:https://liffeypartnership.ie/events/mens-health-awareness/
LOCATION:Orchard Community Centre\, Cherry Orchard Grove\, Cherry Orchard\,\, Dublin 10\, D10 H024\, Ireland
ORGANIZER;CN="Mick Kelly":MAILTO:mkelly@liffeypartnership.ie
END:VEVENT
BEGIN:VEVENT
DTSTART;TZID=Europe/Dublin:20250515T110000
DTEND;TZID=Europe/Dublin:20250515T123000
DTSTAMP:20260425T165025
CREATED:20250430T152711Z
LAST-MODIFIED:20250430T154216Z
UID:10000034-1747306800-1747312200@liffeypartnership.ie
SUMMARY:Traveller Women Support Group
DESCRIPTION:We are inviting Traveller women to join for a friendly discussion to talk about needed supports. This can be personal development\, education and employment or creative wellbeing. We want to hear form you! \nPlease RSVP with Sinead 0874506057 or Jessica 0874416130 \n15th May @ 11.00am – 12.30pm \nOrchard Community Centre\, Cherry Orchard\, D10 H024. \nBook Your Place
URL:https://liffeypartnership.ie/events/traveller-women-support-group/
LOCATION:Orchard Community Centre\, Cherry Orchard Grove\, Cherry Orchard\,\, Dublin 10\, D10 H024\, Ireland
ORGANIZER;CN="Sinead Moore":MAILTO:mailto:smoore@liffeypartnership.ie
END:VEVENT
BEGIN:VEVENT
DTSTART;TZID=Europe/Dublin:20250514T133000
DTEND;TZID=Europe/Dublin:20250514T163000
DTSTAMP:20260425T165025
CREATED:20250430T152319Z
LAST-MODIFIED:20250430T154312Z
UID:10000033-1747229400-1747240200@liffeypartnership.ie
SUMMARY:Bike Safety Day
DESCRIPTION:Bike Safety Day  \nWe will have: \n\nGoodies\nTrishaw Rides\nEngraving for push bike and push scooter.\n\nCome get your bike engraved for free and enjoy some extra goodies on the day! \n14th May @1.30pm – 4pm \nOrchard Community Centre\, Cherry Orchard\, D10 H024. \nBook Your Place
URL:https://liffeypartnership.ie/events/bike-safety-day/
LOCATION:Orchard Community Centre\, Cherry Orchard Grove\, Cherry Orchard\,\, Dublin 10\, D10 H024\, Ireland
ORGANIZER;CN="Sinead Moore":MAILTO:mailto:smoore@liffeypartnership.ie
END:VEVENT
END:VCALENDAR