BEGIN:VCALENDAR
VERSION:2.0
PRODID:-//Liffey Partnership - ECPv6.15.20//NONSGML v1.0//EN
CALSCALE:GREGORIAN
METHOD:PUBLISH
X-ORIGINAL-URL:https://liffeypartnership.ie
X-WR-CALDESC:Events for Liffey Partnership
REFRESH-INTERVAL;VALUE=DURATION:PT1H
X-Robots-Tag:noindex
X-PUBLISHED-TTL:PT1H
BEGIN:VTIMEZONE
TZID:Europe/Dublin
BEGIN:STANDARD
TZOFFSETFROM:+0000
TZOFFSETTO:+0100
TZNAME:IST
DTSTART:20240331T010000
END:STANDARD
BEGIN:DAYLIGHT
TZOFFSETFROM:+0100
TZOFFSETTO:+0000
TZNAME:GMT
DTSTART:20241027T010000
END:DAYLIGHT
BEGIN:STANDARD
TZOFFSETFROM:+0000
TZOFFSETTO:+0100
TZNAME:IST
DTSTART:20250330T010000
END:STANDARD
BEGIN:DAYLIGHT
TZOFFSETFROM:+0100
TZOFFSETTO:+0000
TZNAME:GMT
DTSTART:20251026T010000
END:DAYLIGHT
BEGIN:STANDARD
TZOFFSETFROM:+0000
TZOFFSETTO:+0100
TZNAME:IST
DTSTART:20260329T010000
END:STANDARD
BEGIN:DAYLIGHT
TZOFFSETFROM:+0100
TZOFFSETTO:+0000
TZNAME:GMT
DTSTART:20261025T010000
END:DAYLIGHT
BEGIN:STANDARD
TZOFFSETFROM:+0000
TZOFFSETTO:+0100
TZNAME:IST
DTSTART:20270328T010000
END:STANDARD
BEGIN:DAYLIGHT
TZOFFSETFROM:+0100
TZOFFSETTO:+0000
TZNAME:GMT
DTSTART:20271031T010000
END:DAYLIGHT
END:VTIMEZONE
BEGIN:VEVENT
DTSTART;TZID=Europe/Dublin:20260422T100000
DTEND;TZID=Europe/Dublin:20260422T120000
DTSTAMP:20260425T175937
CREATED:20260410T084501Z
LAST-MODIFIED:20260413T095714Z
UID:10000727-1776852000-1776859200@liffeypartnership.ie
SUMMARY:Women\, Gender & Social Justice
DESCRIPTION:Do you want to challenge inequality and better understand the world around you? \nAre you curios about gender\, power and social justice? \nPerhaps you’ve thought about studying at university level but unsure where to start? \nOur Women\, Gender and Social Justice Programme is perfect for you! \nNo exams\, just participation\, curiosity and a willingness to learn. \nPhone Sinéad 087 450 6057 \nContact Sinéad for more info
URL:https://liffeypartnership.ie/events/women-gender-social-justice-2/2026-04-22/
LOCATION:Bungalow\, Cherry Orchard Family Resource Centre\, 28 Elmdale Dr\, Cherry Orchard\,\, Dublin\, D10K763\, Ireland
ATTACH;FMTTYPE=image/png:https://liffeypartnership.ie/wp-content/uploads/2026/04/Gender-Studies-2.png
ORGANIZER;CN="Sinead Moore":MAILTO:mailto:smoore@liffeypartnership.ie
END:VEVENT
BEGIN:VEVENT
DTSTART;TZID=Europe/Dublin:20250930T180000
DTEND;TZID=Europe/Dublin:20251104T203000
DTSTAMP:20260425T175937
CREATED:20250924T093519Z
LAST-MODIFIED:20250924T093648Z
UID:10000701-1759255200-1762288200@liffeypartnership.ie
SUMMARY:Healthy Food Made Easy
DESCRIPTION:Healthy Food Made Easy is a community cooking programme developed under the Sláintecare Healthy Communities Programme.  The programme will help you to improve your cooking skills\, eating behaviours and nutrition knowledge. Trained tutors and peer leaders from the Ballyfermot/ Cherry Orchard area deliver the programmes. The aim is to help you to make healthier food choices within your budget. You will learn about the different nutrients in food and how they can improve your health\, how to use the food pyramid to plan meals\, how to read and understand food labels\, how to plan shopping and meals within your budget and how to cook simple yet tasty meals. Each course runs for 6 weeks with each session lasting about 2.5 hours. \nTo sign up or for more information contact Shannon on 087 484 7004 or \nBook Your Place
URL:https://liffeypartnership.ie/events/healthy-food-made-easy-6/
LOCATION:Bungalow\, Cherry Orchard Family Resource Centre\, 28 Elmdale Dr\, Cherry Orchard\,\, Dublin\, D10K763\, Ireland
ORGANIZER;CN="Shannon Owens":MAILTO:sowens@liffeypartnership.ie
END:VEVENT
BEGIN:VEVENT
DTSTART;TZID=Europe/Dublin:20250926T100000
DTEND;TZID=Europe/Dublin:20251031T123000
DTSTAMP:20260425T175937
CREATED:20250924T093411Z
LAST-MODIFIED:20250924T093555Z
UID:10000700-1758880800-1761913800@liffeypartnership.ie
SUMMARY:Healthy Food Made Easy
DESCRIPTION:Healthy Food Made Easy is a community cooking programme developed under the Sláintecare Healthy Communities Programme.  The programme will help you to improve your cooking skills\, eating behaviours and nutrition knowledge. Trained tutors and peer leaders from the Ballyfermot/ Cherry Orchard area deliver the programmes. The aim is to help you to make healthier food choices within your budget. You will learn about the different nutrients in food and how they can improve your health\, how to use the food pyramid to plan meals\, how to read and understand food labels\, how to plan shopping and meals within your budget and how to cook simple yet tasty meals. Each course runs for 6 weeks with each session lasting about 2.5 hours. \nTo sign up or for more information contact Shannon on 087 484 7004 or Book Your Place
URL:https://liffeypartnership.ie/events/healthy-food-made-easy-5/
LOCATION:Bungalow\, Cherry Orchard Family Resource Centre\, 28 Elmdale Dr\, Cherry Orchard\,\, Dublin\, D10K763\, Ireland
ORGANIZER;CN="Shannon Owens":MAILTO:sowens@liffeypartnership.ie
END:VEVENT
END:VCALENDAR