BEGIN:VCALENDAR
VERSION:2.0
PRODID:-//Liffey Partnership - ECPv6.15.20//NONSGML v1.0//EN
CALSCALE:GREGORIAN
METHOD:PUBLISH
X-WR-CALNAME:Liffey Partnership
X-ORIGINAL-URL:https://liffeypartnership.ie
X-WR-CALDESC:Events for Liffey Partnership
REFRESH-INTERVAL;VALUE=DURATION:PT1H
X-Robots-Tag:noindex
X-PUBLISHED-TTL:PT1H
BEGIN:VTIMEZONE
TZID:Europe/Dublin
BEGIN:STANDARD
TZOFFSETFROM:+0000
TZOFFSETTO:+0100
TZNAME:IST
DTSTART:20240331T010000
END:STANDARD
BEGIN:DAYLIGHT
TZOFFSETFROM:+0100
TZOFFSETTO:+0000
TZNAME:GMT
DTSTART:20241027T010000
END:DAYLIGHT
BEGIN:STANDARD
TZOFFSETFROM:+0000
TZOFFSETTO:+0100
TZNAME:IST
DTSTART:20250330T010000
END:STANDARD
BEGIN:DAYLIGHT
TZOFFSETFROM:+0100
TZOFFSETTO:+0000
TZNAME:GMT
DTSTART:20251026T010000
END:DAYLIGHT
BEGIN:STANDARD
TZOFFSETFROM:+0000
TZOFFSETTO:+0100
TZNAME:IST
DTSTART:20260329T010000
END:STANDARD
BEGIN:DAYLIGHT
TZOFFSETFROM:+0100
TZOFFSETTO:+0000
TZNAME:GMT
DTSTART:20261025T010000
END:DAYLIGHT
END:VTIMEZONE
BEGIN:VEVENT
DTSTART;TZID=Europe/Dublin:20251021T100000
DTEND;TZID=Europe/Dublin:20251021T123000
DTSTAMP:20260425T175938
CREATED:20250924T093022Z
LAST-MODIFIED:20250924T093045Z
UID:10000699-1761040800-1761049800@liffeypartnership.ie
SUMMARY:Healthy Food Made Easy
DESCRIPTION:Healthy Food Made Easy is a community cooking programme developed under the Sláintecare Healthy Communities Programme.  The programme will help you to improve your cooking skills\, eating behaviours and nutrition knowledge. Trained tutors and peer leaders from the Ballyfermot/ Cherry Orchard area deliver the programmes. The aim is to help you to make healthier food choices within your budget. You will learn about the different nutrients in food and how they can improve your health\, how to use the food pyramid to plan meals\, how to read and understand food labels\, how to plan shopping and meals within your budget and how to cook simple yet tasty meals. Each course runs for 6 weeks with each session lasting about 2.5 hours. \nTo sign up or for more information contact Shannon on 087 484 7004 or Book Your Place
URL:https://liffeypartnership.ie/events/healthy-food-made-easy-4/
LOCATION:Realt Nua\, Rehabilitaion\, Training and Education Centre\, Ballyfermot Star\, 7 Drumfinn Park\, Drumfinn\,\, Dublin\, D10 FP66\, Ireland
ORGANIZER;CN="Shannon Owens":MAILTO:sowens@liffeypartnership.ie
END:VEVENT
BEGIN:VEVENT
DTSTART;TZID=Europe/Dublin:20250930T180000
DTEND;TZID=Europe/Dublin:20251104T203000
DTSTAMP:20260425T175938
CREATED:20250924T093519Z
LAST-MODIFIED:20250924T093648Z
UID:10000701-1759255200-1762288200@liffeypartnership.ie
SUMMARY:Healthy Food Made Easy
DESCRIPTION:Healthy Food Made Easy is a community cooking programme developed under the Sláintecare Healthy Communities Programme.  The programme will help you to improve your cooking skills\, eating behaviours and nutrition knowledge. Trained tutors and peer leaders from the Ballyfermot/ Cherry Orchard area deliver the programmes. The aim is to help you to make healthier food choices within your budget. You will learn about the different nutrients in food and how they can improve your health\, how to use the food pyramid to plan meals\, how to read and understand food labels\, how to plan shopping and meals within your budget and how to cook simple yet tasty meals. Each course runs for 6 weeks with each session lasting about 2.5 hours. \nTo sign up or for more information contact Shannon on 087 484 7004 or \nBook Your Place
URL:https://liffeypartnership.ie/events/healthy-food-made-easy-6/
LOCATION:Bungalow\, Cherry Orchard Family Resource Centre\, 28 Elmdale Dr\, Cherry Orchard\,\, Dublin\, D10K763\, Ireland
ORGANIZER;CN="Shannon Owens":MAILTO:sowens@liffeypartnership.ie
END:VEVENT
BEGIN:VEVENT
DTSTART;TZID=Europe/Dublin:20250926T100000
DTEND;TZID=Europe/Dublin:20251031T123000
DTSTAMP:20260425T175938
CREATED:20250924T093411Z
LAST-MODIFIED:20250924T093555Z
UID:10000700-1758880800-1761913800@liffeypartnership.ie
SUMMARY:Healthy Food Made Easy
DESCRIPTION:Healthy Food Made Easy is a community cooking programme developed under the Sláintecare Healthy Communities Programme.  The programme will help you to improve your cooking skills\, eating behaviours and nutrition knowledge. Trained tutors and peer leaders from the Ballyfermot/ Cherry Orchard area deliver the programmes. The aim is to help you to make healthier food choices within your budget. You will learn about the different nutrients in food and how they can improve your health\, how to use the food pyramid to plan meals\, how to read and understand food labels\, how to plan shopping and meals within your budget and how to cook simple yet tasty meals. Each course runs for 6 weeks with each session lasting about 2.5 hours. \nTo sign up or for more information contact Shannon on 087 484 7004 or Book Your Place
URL:https://liffeypartnership.ie/events/healthy-food-made-easy-5/
LOCATION:Bungalow\, Cherry Orchard Family Resource Centre\, 28 Elmdale Dr\, Cherry Orchard\,\, Dublin\, D10K763\, Ireland
ORGANIZER;CN="Shannon Owens":MAILTO:sowens@liffeypartnership.ie
END:VEVENT
BEGIN:VEVENT
DTSTART;TZID=Europe/Dublin:20250805T120000
DTEND;TZID=Europe/Dublin:20250909T143000
DTSTAMP:20260425T175938
CREATED:20250725T145145Z
LAST-MODIFIED:20250807T085348Z
UID:10000689-1754395200-1757428200@liffeypartnership.ie
SUMMARY:Healthy Food Made Easy
DESCRIPTION:Healthy Food Made Easy is a 6-week group programme that helps you follow a healthy and affordable diet. We cook a simple\, healthy dish each week that you get to enjoy with new friends in the group.\nShannon Owens\, Health Programmes Officer\, 087 484 7004\, sowens@liffeypartnership.ie \nReach out to Shannon
URL:https://liffeypartnership.ie/events/healthy-food-made-easy-3/
LOCATION:Ballyfermot Community Church\, 1 Drumfinn Park\, Drumfinn\, Dublin\, D10TX63\, Ireland
ORGANIZER;CN="Shannon Owens":MAILTO:sowens@liffeypartnership.ie
END:VEVENT
BEGIN:VEVENT
DTSTART;TZID=Europe/Dublin:20250729T103000
DTEND;TZID=Europe/Dublin:20250902T130000
DTSTAMP:20260425T175938
CREATED:20250725T144912Z
LAST-MODIFIED:20250807T090246Z
UID:10000688-1753785000-1756818000@liffeypartnership.ie
SUMMARY:Healthy Food Made Easy
DESCRIPTION:Healthy Food Made Easy is a 6-week group programme that helps you follow a healthy and affordable diet. We cook a simple\, healthy dish each week that you get to enjoy with new friends in the group. \nDates and Times:  Starts 29th July – 10.30am – 1pm\, everyday Tuesday\, for 6 weeks \nContact person email address:  Shannon Owens\, Health Programmes Officer 087 484 7004 \nReach out to Shannon \n 
URL:https://liffeypartnership.ie/events/healthy-food-made-easy-2/
LOCATION:St Matthews Family Resource Centre\, 5 Drumfinn Park\, Ballyfermot\, Dublin 10\,\, Dublin\, D10 AV96\, Ireland
ORGANIZER;CN="Shannon Owens":MAILTO:sowens@liffeypartnership.ie
END:VEVENT
BEGIN:VEVENT
DTSTART;TZID=Europe/Dublin:20250603T130000
DTEND;TZID=Europe/Dublin:20250603T153000
DTSTAMP:20260425T175938
CREATED:20250523T151104Z
LAST-MODIFIED:20250523T151128Z
UID:10000677-1748955600-1748964600@liffeypartnership.ie
SUMMARY:Healthy Food Made Easy
DESCRIPTION:Healthy Food Made Easy is a 6-week group programme that helps you follow a healthy and affordable diet. We cook a simple\, healthy dish each week that you get to enjoy with new friends in the group. Healthy Food Made Easy is led by community facilitators who are trained in up-to-date healthy eating. We show you the different nutrients and vitamins your body needs to feel its best. This is a great chance to get out of the house\, learn something new which will benefit your health. \nEach course will cover: \n\nShopping on a budget and reading food labels\n\n\nLearning how to cook easy and tasty meals\nChanging your habits\nHow to manage dietary requirements  e.g. Diabetes\, digestive issues or high blood pressure.\nUnderstanding the food pyramid which shows us how to eat a balanced diet\nConversations with a Community Dietician\nHow to manage food issues such as fussy kids\, food waste or cooking for one\n\nWhat do you get? \n\nEveryone who completes the courses will get:\n\n\nParticipant pack with quality appliances to help you (items may vary from picture below)\nCertificate of completion.\nRecipe book full of tasty ideas that you will be well able to make.
URL:https://liffeypartnership.ie/events/healthy-food-made-easy/
LOCATION:Ballyfermot Community Church\, 1 Drumfinn Park\, Drumfinn\, Dublin\, D10TX63\, Ireland
ORGANIZER;CN="Shannon Owens":MAILTO:sowens@liffeypartnership.ie
END:VEVENT
END:VCALENDAR