BEGIN:VCALENDAR
VERSION:2.0
PRODID:-//Liffey Partnership - ECPv6.15.20//NONSGML v1.0//EN
CALSCALE:GREGORIAN
METHOD:PUBLISH
X-WR-CALNAME:Liffey Partnership
X-ORIGINAL-URL:https://liffeypartnership.ie
X-WR-CALDESC:Events for Liffey Partnership
REFRESH-INTERVAL;VALUE=DURATION:PT1H
X-Robots-Tag:noindex
X-PUBLISHED-TTL:PT1H
BEGIN:VTIMEZONE
TZID:Europe/Dublin
BEGIN:STANDARD
TZOFFSETFROM:+0000
TZOFFSETTO:+0100
TZNAME:IST
DTSTART:20240331T010000
END:STANDARD
BEGIN:DAYLIGHT
TZOFFSETFROM:+0100
TZOFFSETTO:+0000
TZNAME:GMT
DTSTART:20241027T010000
END:DAYLIGHT
BEGIN:STANDARD
TZOFFSETFROM:+0000
TZOFFSETTO:+0100
TZNAME:IST
DTSTART:20250330T010000
END:STANDARD
BEGIN:DAYLIGHT
TZOFFSETFROM:+0100
TZOFFSETTO:+0000
TZNAME:GMT
DTSTART:20251026T010000
END:DAYLIGHT
BEGIN:STANDARD
TZOFFSETFROM:+0000
TZOFFSETTO:+0100
TZNAME:IST
DTSTART:20260329T010000
END:STANDARD
BEGIN:DAYLIGHT
TZOFFSETFROM:+0100
TZOFFSETTO:+0000
TZNAME:GMT
DTSTART:20261025T010000
END:DAYLIGHT
BEGIN:STANDARD
TZOFFSETFROM:+0000
TZOFFSETTO:+0100
TZNAME:IST
DTSTART:20270328T010000
END:STANDARD
BEGIN:DAYLIGHT
TZOFFSETFROM:+0100
TZOFFSETTO:+0000
TZNAME:GMT
DTSTART:20271031T010000
END:DAYLIGHT
END:VTIMEZONE
BEGIN:VEVENT
DTSTART;TZID=Europe/Dublin:20251029T093000
DTEND;TZID=Europe/Dublin:20251031T160000
DTSTAMP:20260425T164602
CREATED:20250818T094238Z
LAST-MODIFIED:20251024T093743Z
UID:10000691-1761730200-1761926400@liffeypartnership.ie
SUMMARY:Start Your Own Business Course
DESCRIPTION:Liffey Partnership will run a Start Your Own Business course for people looking at becoming a business owner. We work on understanding what is involved\, what you need to do to start and where you might be able to access finance. \n\n\nOur next course takes place from October 29th to 31st so please get in touch to reserve a spot! \n\n\nStart Your Own Business Course participants learn to:\n\n\nExplore a Business Idea\nUnderstand Your Market\nDevelop Your Business Plan\nAttract Customers: Sales and Digital Marketing\nLegal Requirements\, Bookkeeping and Accountancy\nBTWEA/STEA\, the process and key dates.\nProven practical tips and techniques in a relaxed and approachable style.\nSkills and systems to help you improve how you launch your business and how prepared you are to succeed\n\nBook Your Place
URL:https://liffeypartnership.ie/events/start-your-own-business-course-3/
LOCATION:Liffey Partnership Office\, 4 Drumfinn Park\, Ballyfermot\, Dublin 10\, D10AY66\, Ireland
ORGANIZER;CN="Dave O'Connell":MAILTO:doconnell@liffeypartnership.ie
END:VEVENT
BEGIN:VEVENT
DTSTART;TZID=Europe/Dublin:20251103T101500
DTEND;TZID=Europe/Dublin:20260211T123000
DTSTAMP:20260425T164602
CREATED:20251024T083448Z
LAST-MODIFIED:20251024T103904Z
UID:10000705-1762164900-1770813000@liffeypartnership.ie
SUMMARY:Heads Up for Women
DESCRIPTION:Heads Up for Women is a mental health programme that helps you to: \n\nNurture yourself to manage stress in your life.\nTo help your anxiety and rediscover your creativity and sense of fun.\nDiscover what brings you joy and purpose.\nBe more confident in communicating and reaching out to others (asking for help might be better here? You can decide.)\nFind your way through change.\nPersonal Development\n\nThe Heads Up for Women programme runs 2 mornings a week – Mondays & Wednesdays from 10 am to 12:30pm in the library in Ballyfermot. The programme begins on Monday November 3rd for 6 weeks with a break for Christmas and resumes for 6 more weeks afterwards. If you have any questions \nBook Your Place
URL:https://liffeypartnership.ie/events/heads-up-for-women/
LOCATION:Ballyfermot Library\, Ballyfermot Rd\, Kylemore\, Dublin 10\, D10 WV02
ORGANIZER;CN="Tom Conroy":MAILTO:tconroy@liffeypartnership.ie
END:VEVENT
BEGIN:VEVENT
DTSTART;TZID=Europe/Dublin:20251127T180000
DTEND;TZID=Europe/Dublin:20251127T193000
DTSTAMP:20260425T164602
CREATED:20251117T162433Z
LAST-MODIFIED:20251117T162731Z
UID:10000707-1764266400-1764271800@liffeypartnership.ie
SUMMARY:Kidney Health Information Evening
DESCRIPTION:We are hosting a free\, welcoming event in partnership with the Irish Kidney Association — offering advice\, support\, and information for you and your family. Whether you’re looking to learn more about kidney health\, get support\, or just have a chat — we’d love to see you there. \nAll are welcome! \nReach out to Amy
URL:https://liffeypartnership.ie/events/kidney-health-information-evening/
LOCATION:Liffey Partnership Office\, 4 Drumfinn Park\, Ballyfermot\, Dublin 10\, D10AY66\, Ireland
ORGANIZER;CN="Amy Ryan":MAILTO:aryan@liffeypartnership.ie
END:VEVENT
BEGIN:VEVENT
DTSTART;TZID=Europe/Dublin:20251203T080000
DTEND;TZID=Europe/Dublin:20251204T170000
DTSTAMP:20260425T164602
CREATED:20251126T091635Z
LAST-MODIFIED:20251126T155550Z
UID:10000708-1764748800-1764867600@liffeypartnership.ie
SUMMARY:Traveller Skills Training Opportunity!
DESCRIPTION:A construction skills training day for TRAVELLERS. Join us on December 3rd and 4th for a 2-day Construction Skills Training and gain essential certifications: \n\nSafe Pass\nManual Handling\nAbrasive Wheels\nWorking at Heights\n\nSpaces are limited so please get in touch asap to secure a spot. \nContact Sinead 0874506057 or Reach out to Sinéad by email
URL:https://liffeypartnership.ie/events/traveller-skills-training-opportunity/
LOCATION:Dublin 10
END:VEVENT
BEGIN:VEVENT
DTSTART;TZID=Europe/Dublin:20260120T100000
DTEND;TZID=Europe/Dublin:20260305T130000
DTSTAMP:20260425T164602
CREATED:20251215T163057Z
LAST-MODIFIED:20251215T163810Z
UID:10000709-1768903200-1772715600@liffeypartnership.ie
SUMMARY:Steps for Success
DESCRIPTION:The STEPS Programme\, was created by the Pacific Institute in response to the demand for practical educational material\, to assist an ever-increasing number of people who are trying to change their situation\, personally\, professionally or organisationally. It is based on up-to-date psychological cognitive concepts and presented in a down-to-earth form\, which is easy to understand\, and simple to apply. \nSTEPS – What it Does. \n\nIt teaches individuals to think differently about themselves\, their families\, their world and what they\, themselves\, can and cannot do.\nIt is designed to build real strength and to help people accomplish greater tasks and to tackle and solve critical problems.\nIt enables people to become independent\, self-directed and fully accountable.\nIt shows that the greatest barriers to success comes from inside ourselves and that by working through a series of concepts and techniques\, individuals discover that they have greater power to take charge of their future.\nIt energises individuals and teams to work constructively towards the vision.\n\nSTEPS – Key Concepts \nUnderlying the process of improved performance are several fundamental principles\, including: \n\nBeliefs and Performance\nHow Beliefs are Established\nLocus of Control\nSelf-Image and Comfort Zones\nMotivation\nVision and Current Reality\nNew Beliefs and New Performance – using Affirmations and Goal –Setting.\nSelf-Efficacy (our ability to cause things to happen).\n\nDates and Times: 20th January\, Tuesdays and Thursdays  from 10am- 1pm. \nRegister with James
URL:https://liffeypartnership.ie/events/steps-for-success-3/
LOCATION:Liffey Partnership Office\, 4 Drumfinn Park\, Ballyfermot\, Dublin 10\, D10AY66\, Ireland
ORGANIZER;CN="James Morton":MAILTO:jmorton@liffeypartnership.ie
END:VEVENT
BEGIN:VEVENT
DTSTART;TZID=Europe/Dublin:20260126T100000
DTEND;TZID=Europe/Dublin:20260504T130000
DTSTAMP:20260425T164602
CREATED:20251029T112408Z
LAST-MODIFIED:20251029T115042Z
UID:10000706-1769421600-1777899600@liffeypartnership.ie
SUMMARY:Are you in recovery and ready to take the next step?
DESCRIPTION:The Careers EDGE Programme is designed specifically for people in recovery who want to take the next step in life\, whether that’s into work\, college\, or further education. \nIt’s a 14-week supportive programme based in Foley Street\, Dublin 1\, running Monday to Friday\, 10am–1pm. \nThe first 10 weeks focus on practical\, confidence-building modules\, followed by 4 weeks of hands-on work placement.\nWe also offer an attendance allowance and support with childcare. \nIf you’re in recovery and want to build your confidence\, develop new skills\, and explore what’s next\, this is a great opportunity to start. \n📅 Starting January 26th \n#InRecovery #CareersEDGE #RecoveryJourney #LiffeyPartnership #NextStep #WorkPlacement #Education #DublinRecovery #Purpose \nBook Your Place
URL:https://liffeypartnership.ie/events/are-you-in-recovery-and-ready-to-take-the-next-step/
LOCATION:Liffey Partnership Foley Street\, Ulysses House Foley Street\,\, Dublin 1\, Ireland
ORGANIZER;CN="Alan McGovern":MAILTO:amcgovern@liffeypartnership.ie
END:VEVENT
BEGIN:VEVENT
DTSTART;TZID=Europe/Dublin:20260219T100000
DTEND;TZID=Europe/Dublin:20260219T123000
DTSTAMP:20260425T164602
CREATED:20260210T154430Z
LAST-MODIFIED:20260212T102013Z
UID:10000712-1771495200-1771504200@liffeypartnership.ie
SUMMARY:Heads Up Mens Programme
DESCRIPTION:Heads Up is a free\, group based education and support programme offering modules of evidence based mental health education\, physical education\, progression and positive social supports\, whilst at the same time supporting individuals to avail of local supports and develop a life plan. \nThroughout the programme\, each participant will also be supported to develop an individual Heads Up plan. This plan that looks at personal issues; social connection; physical; mental fitness; education; work experience and importantly\, identifies steps to take in order to reach agreed goals. \nIf you’re over 18 & want to \n\nBuild your mental fitness\nBoost your confidence\nTake action\n\nHEADSUP is the programme for you! \nSpeak to Tom
URL:https://liffeypartnership.ie/events/heads-up-mens-programme/
LOCATION:Ballyfermot Library\, Ballyfermot Rd\, Kylemore\, Dublin 10\, D10 WV02
ORGANIZER;CN="Tom Conroy":MAILTO:tconroy@liffeypartnership.ie
END:VEVENT
BEGIN:VEVENT
DTSTART;TZID=Europe/Dublin:20260225T113000
DTEND;TZID=Europe/Dublin:20260409T130000
DTSTAMP:20260425T164602
CREATED:20260210T154943Z
LAST-MODIFIED:20260210T160621Z
UID:10000710-1772019000-1775739600@liffeypartnership.ie
SUMMARY:Kickstart/Basic IT Course
DESCRIPTION:Are you new to using a computer! Learn how to use a laptop or bring your own device\, search on the internet\, shop online and send emails! Learn new skills in a welcoming and supportive environment! \nKickstart/Basic IT Course \nStart Date: Wednesday 25th February \nEach Wednesday an Friday morning from 11.30am to 1pm for 7 weeks. \nVenue: Liffey Partnership\, 4 Drumfinn Park\, Ballyfermot \nContact: Alison Mulholland: 087 1990913/ amulholland@liffeypartnership.ie \nEmail Alison
URL:https://liffeypartnership.ie/events/kickstart-basic-it-course-5/
LOCATION:Liffey Partnership Office\, 4 Drumfinn Park\, Ballyfermot\, Dublin 10\, D10AY66\, Ireland
ORGANIZER;CN="Alison Mulholland":MAILTO:amulholland@liffeypartnership.ie
END:VEVENT
BEGIN:VEVENT
DTSTART;TZID=Europe/Dublin:20260303T093000
DTEND;TZID=Europe/Dublin:20260305T160000
DTSTAMP:20260425T164602
CREATED:20260210T160613Z
LAST-MODIFIED:20260210T160613Z
UID:10000711-1772530200-1772726400@liffeypartnership.ie
SUMMARY:Start Your Own Business Course
DESCRIPTION:Liffey Partnership will run a Start Your Own Business course for people looking at becoming a business owner. We work on understanding what is involved\, what you need to do to start and where you might be able to access finance. \n\n\nOur next course takes place from March 3rd to 5th so please get in touch to reserve a spot! \n\n\nStart Your Own Business Course participants learn to:\n\n\nExplore a Business Idea\nUnderstand Your Market\nDevelop Your Business Plan\nAttract Customers: Sales and Digital Marketing\nLegal Requirements\, Bookkeeping and Accountancy\nBTWEA/STEA\, the process and key dates.\nProven practical tips and techniques in a relaxed and approachable style.\nSkills and systems to help you improve how you launch your business and how prepared you are to succeed\n\nBook Your Place
URL:https://liffeypartnership.ie/events/start-your-own-business-course-4/
LOCATION:Liffey Partnership Office\, 4 Drumfinn Park\, Ballyfermot\, Dublin 10\, D10AY66\, Ireland
ORGANIZER;CN="Dave O'Connell":MAILTO:doconnell@liffeypartnership.ie
END:VEVENT
BEGIN:VEVENT
DTSTART;TZID=Europe/Dublin:20260422T100000
DTEND;TZID=Europe/Dublin:20260422T120000
DTSTAMP:20260425T164602
CREATED:20260410T084501Z
LAST-MODIFIED:20260413T095714Z
UID:10000727-1776852000-1776859200@liffeypartnership.ie
SUMMARY:Women\, Gender & Social Justice
DESCRIPTION:Do you want to challenge inequality and better understand the world around you? \nAre you curios about gender\, power and social justice? \nPerhaps you’ve thought about studying at university level but unsure where to start? \nOur Women\, Gender and Social Justice Programme is perfect for you! \nNo exams\, just participation\, curiosity and a willingness to learn. \nPhone Sinéad 087 450 6057 \nContact Sinéad for more info
URL:https://liffeypartnership.ie/events/women-gender-social-justice-2/2026-04-22/
LOCATION:Bungalow\, Cherry Orchard Family Resource Centre\, 28 Elmdale Dr\, Cherry Orchard\,\, Dublin\, D10K763\, Ireland
ATTACH;FMTTYPE=image/png:https://liffeypartnership.ie/wp-content/uploads/2026/04/Gender-Studies-2.png
ORGANIZER;CN="Sinead Moore":MAILTO:mailto:smoore@liffeypartnership.ie
END:VEVENT
BEGIN:VEVENT
DTSTART;TZID=Europe/Dublin:20260429T100000
DTEND;TZID=Europe/Dublin:20260429T120000
DTSTAMP:20260425T164602
CREATED:20260410T084501Z
LAST-MODIFIED:20260413T095714Z
UID:10000742-1777456800-1777464000@liffeypartnership.ie
SUMMARY:Women\, Gender & Social Justice
DESCRIPTION:Do you want to challenge inequality and better understand the world around you? \nAre you curios about gender\, power and social justice? \nPerhaps you’ve thought about studying at university level but unsure where to start? \nOur Women\, Gender and Social Justice Programme is perfect for you! \nNo exams\, just participation\, curiosity and a willingness to learn. \nPhone Sinéad 087 450 6057 \nContact Sinéad for more info
URL:https://liffeypartnership.ie/events/women-gender-social-justice-2/2026-04-29/
LOCATION:Bungalow\, Cherry Orchard Family Resource Centre\, 28 Elmdale Dr\, Cherry Orchard\,\, Dublin\, D10K763\, Ireland
ATTACH;FMTTYPE=image/png:https://liffeypartnership.ie/wp-content/uploads/2026/04/Gender-Studies-2.png
ORGANIZER;CN="Sinead Moore":MAILTO:mailto:smoore@liffeypartnership.ie
END:VEVENT
BEGIN:VEVENT
DTSTART;TZID=Europe/Dublin:20260506T100000
DTEND;TZID=Europe/Dublin:20260506T120000
DTSTAMP:20260425T164602
CREATED:20260410T084501Z
LAST-MODIFIED:20260413T095714Z
UID:10000743-1778061600-1778068800@liffeypartnership.ie
SUMMARY:Women\, Gender & Social Justice
DESCRIPTION:Do you want to challenge inequality and better understand the world around you? \nAre you curios about gender\, power and social justice? \nPerhaps you’ve thought about studying at university level but unsure where to start? \nOur Women\, Gender and Social Justice Programme is perfect for you! \nNo exams\, just participation\, curiosity and a willingness to learn. \nPhone Sinéad 087 450 6057 \nContact Sinéad for more info
URL:https://liffeypartnership.ie/events/women-gender-social-justice-2/2026-05-06/
LOCATION:Bungalow\, Cherry Orchard Family Resource Centre\, 28 Elmdale Dr\, Cherry Orchard\,\, Dublin\, D10K763\, Ireland
ATTACH;FMTTYPE=image/png:https://liffeypartnership.ie/wp-content/uploads/2026/04/Gender-Studies-2.png
ORGANIZER;CN="Sinead Moore":MAILTO:mailto:smoore@liffeypartnership.ie
END:VEVENT
BEGIN:VEVENT
DTSTART;TZID=Europe/Dublin:20260512T100000
DTEND;TZID=Europe/Dublin:20260618T130000
DTSTAMP:20260425T164602
CREATED:20260407T113648Z
LAST-MODIFIED:20260409T091023Z
UID:10000719-1778580000-1781787600@liffeypartnership.ie
SUMMARY:Your Time to Shine
DESCRIPTION:Are you parenting alone? Interested in returning to work\, education or training? Your Time to Shine is a 6-week programme providing you with information on education options\, grants\, childcare\, career guidance. We will also provide you with personal development skills\, life coaching and wellbeing! \nWhen? Starting 12th May to 18th June (6 weeks)\, on each Tuesday and Thursday morning from 10am to 1pm. \nWhere? Liffey Partnership\, 4 Drumfinn Park\, Ballyfermot \nContact James for more info
URL:https://liffeypartnership.ie/events/your-time-to-shine-2/
LOCATION:Liffey Partnership Office\, 4 Drumfinn Park\, Ballyfermot\, Dublin 10\, D10AY66\, Ireland
ATTACH;FMTTYPE=image/jpeg:https://liffeypartnership.ie/wp-content/uploads/2026/04/Your-Time-to-Shine-Flyer-2026.jpg
ORGANIZER;CN="James Morton":MAILTO:jmorton@liffeypartnership.ie
END:VEVENT
BEGIN:VEVENT
DTSTART;TZID=Europe/Dublin:20260513T100000
DTEND;TZID=Europe/Dublin:20260513T120000
DTSTAMP:20260425T164602
CREATED:20260410T084501Z
LAST-MODIFIED:20260413T095714Z
UID:10000744-1778666400-1778673600@liffeypartnership.ie
SUMMARY:Women\, Gender & Social Justice
DESCRIPTION:Do you want to challenge inequality and better understand the world around you? \nAre you curios about gender\, power and social justice? \nPerhaps you’ve thought about studying at university level but unsure where to start? \nOur Women\, Gender and Social Justice Programme is perfect for you! \nNo exams\, just participation\, curiosity and a willingness to learn. \nPhone Sinéad 087 450 6057 \nContact Sinéad for more info
URL:https://liffeypartnership.ie/events/women-gender-social-justice-2/2026-05-13/
LOCATION:Bungalow\, Cherry Orchard Family Resource Centre\, 28 Elmdale Dr\, Cherry Orchard\,\, Dublin\, D10K763\, Ireland
ATTACH;FMTTYPE=image/png:https://liffeypartnership.ie/wp-content/uploads/2026/04/Gender-Studies-2.png
ORGANIZER;CN="Sinead Moore":MAILTO:mailto:smoore@liffeypartnership.ie
END:VEVENT
BEGIN:VEVENT
DTSTART;TZID=Europe/Dublin:20260520T100000
DTEND;TZID=Europe/Dublin:20260520T120000
DTSTAMP:20260425T164602
CREATED:20260410T084501Z
LAST-MODIFIED:20260413T095714Z
UID:10000745-1779271200-1779278400@liffeypartnership.ie
SUMMARY:Women\, Gender & Social Justice
DESCRIPTION:Do you want to challenge inequality and better understand the world around you? \nAre you curios about gender\, power and social justice? \nPerhaps you’ve thought about studying at university level but unsure where to start? \nOur Women\, Gender and Social Justice Programme is perfect for you! \nNo exams\, just participation\, curiosity and a willingness to learn. \nPhone Sinéad 087 450 6057 \nContact Sinéad for more info
URL:https://liffeypartnership.ie/events/women-gender-social-justice-2/2026-05-20/
LOCATION:Bungalow\, Cherry Orchard Family Resource Centre\, 28 Elmdale Dr\, Cherry Orchard\,\, Dublin\, D10K763\, Ireland
ATTACH;FMTTYPE=image/png:https://liffeypartnership.ie/wp-content/uploads/2026/04/Gender-Studies-2.png
ORGANIZER;CN="Sinead Moore":MAILTO:mailto:smoore@liffeypartnership.ie
END:VEVENT
BEGIN:VEVENT
DTSTART;TZID=Europe/Dublin:20260527T100000
DTEND;TZID=Europe/Dublin:20260527T120000
DTSTAMP:20260425T164602
CREATED:20260410T084501Z
LAST-MODIFIED:20260413T095714Z
UID:10000746-1779876000-1779883200@liffeypartnership.ie
SUMMARY:Women\, Gender & Social Justice
DESCRIPTION:Do you want to challenge inequality and better understand the world around you? \nAre you curios about gender\, power and social justice? \nPerhaps you’ve thought about studying at university level but unsure where to start? \nOur Women\, Gender and Social Justice Programme is perfect for you! \nNo exams\, just participation\, curiosity and a willingness to learn. \nPhone Sinéad 087 450 6057 \nContact Sinéad for more info
URL:https://liffeypartnership.ie/events/women-gender-social-justice-2/2026-05-27/
LOCATION:Bungalow\, Cherry Orchard Family Resource Centre\, 28 Elmdale Dr\, Cherry Orchard\,\, Dublin\, D10K763\, Ireland
ATTACH;FMTTYPE=image/png:https://liffeypartnership.ie/wp-content/uploads/2026/04/Gender-Studies-2.png
ORGANIZER;CN="Sinead Moore":MAILTO:mailto:smoore@liffeypartnership.ie
END:VEVENT
BEGIN:VEVENT
DTSTART;TZID=Europe/Dublin:20260603T100000
DTEND;TZID=Europe/Dublin:20260603T120000
DTSTAMP:20260425T164602
CREATED:20260410T084501Z
LAST-MODIFIED:20260413T095714Z
UID:10000747-1780480800-1780488000@liffeypartnership.ie
SUMMARY:Women\, Gender & Social Justice
DESCRIPTION:Do you want to challenge inequality and better understand the world around you? \nAre you curios about gender\, power and social justice? \nPerhaps you’ve thought about studying at university level but unsure where to start? \nOur Women\, Gender and Social Justice Programme is perfect for you! \nNo exams\, just participation\, curiosity and a willingness to learn. \nPhone Sinéad 087 450 6057 \nContact Sinéad for more info
URL:https://liffeypartnership.ie/events/women-gender-social-justice-2/2026-06-03/
LOCATION:Bungalow\, Cherry Orchard Family Resource Centre\, 28 Elmdale Dr\, Cherry Orchard\,\, Dublin\, D10K763\, Ireland
ATTACH;FMTTYPE=image/png:https://liffeypartnership.ie/wp-content/uploads/2026/04/Gender-Studies-2.png
ORGANIZER;CN="Sinead Moore":MAILTO:mailto:smoore@liffeypartnership.ie
END:VEVENT
BEGIN:VEVENT
DTSTART;TZID=Europe/Dublin:20260610T100000
DTEND;TZID=Europe/Dublin:20260610T120000
DTSTAMP:20260425T164602
CREATED:20260410T084501Z
LAST-MODIFIED:20260413T095714Z
UID:10000748-1781085600-1781092800@liffeypartnership.ie
SUMMARY:Women\, Gender & Social Justice
DESCRIPTION:Do you want to challenge inequality and better understand the world around you? \nAre you curios about gender\, power and social justice? \nPerhaps you’ve thought about studying at university level but unsure where to start? \nOur Women\, Gender and Social Justice Programme is perfect for you! \nNo exams\, just participation\, curiosity and a willingness to learn. \nPhone Sinéad 087 450 6057 \nContact Sinéad for more info
URL:https://liffeypartnership.ie/events/women-gender-social-justice-2/2026-06-10/
LOCATION:Bungalow\, Cherry Orchard Family Resource Centre\, 28 Elmdale Dr\, Cherry Orchard\,\, Dublin\, D10K763\, Ireland
ATTACH;FMTTYPE=image/png:https://liffeypartnership.ie/wp-content/uploads/2026/04/Gender-Studies-2.png
ORGANIZER;CN="Sinead Moore":MAILTO:mailto:smoore@liffeypartnership.ie
END:VEVENT
END:VCALENDAR