BEGIN:VCALENDAR
VERSION:2.0
PRODID:-//Liffey Partnership - ECPv6.15.20//NONSGML v1.0//EN
CALSCALE:GREGORIAN
METHOD:PUBLISH
X-WR-CALNAME:Liffey Partnership
X-ORIGINAL-URL:https://liffeypartnership.ie
X-WR-CALDESC:Events for Liffey Partnership
REFRESH-INTERVAL;VALUE=DURATION:PT1H
X-Robots-Tag:noindex
X-PUBLISHED-TTL:PT1H
BEGIN:VTIMEZONE
TZID:Europe/Dublin
BEGIN:STANDARD
TZOFFSETFROM:+0000
TZOFFSETTO:+0100
TZNAME:IST
DTSTART:20240331T010000
END:STANDARD
BEGIN:DAYLIGHT
TZOFFSETFROM:+0100
TZOFFSETTO:+0000
TZNAME:GMT
DTSTART:20241027T010000
END:DAYLIGHT
BEGIN:STANDARD
TZOFFSETFROM:+0000
TZOFFSETTO:+0100
TZNAME:IST
DTSTART:20250330T010000
END:STANDARD
BEGIN:DAYLIGHT
TZOFFSETFROM:+0100
TZOFFSETTO:+0000
TZNAME:GMT
DTSTART:20251026T010000
END:DAYLIGHT
BEGIN:STANDARD
TZOFFSETFROM:+0000
TZOFFSETTO:+0100
TZNAME:IST
DTSTART:20260329T010000
END:STANDARD
BEGIN:DAYLIGHT
TZOFFSETFROM:+0100
TZOFFSETTO:+0000
TZNAME:GMT
DTSTART:20261025T010000
END:DAYLIGHT
BEGIN:STANDARD
TZOFFSETFROM:+0000
TZOFFSETTO:+0100
TZNAME:IST
DTSTART:20270328T010000
END:STANDARD
BEGIN:DAYLIGHT
TZOFFSETFROM:+0100
TZOFFSETTO:+0000
TZNAME:GMT
DTSTART:20271031T010000
END:DAYLIGHT
END:VTIMEZONE
BEGIN:VEVENT
DTSTART;TZID=Europe/Dublin:20250916T100000
DTEND;TZID=Europe/Dublin:20251202T120000
DTSTAMP:20260425T204913
CREATED:20250904T105837Z
LAST-MODIFIED:20250904T105855Z
UID:10000693-1758016800-1764676800@liffeypartnership.ie
SUMMARY:Sewing Workshop
DESCRIPTION:🧵✨ Join our 12-week Sewing Course ✨🧵\nEvery Tuesday (2 hours) starting September 16th at 10am – perfect for beginners wanting to learn or those with experience who’d like to share their skills.\n\nIt’s not just about sewing – it’s about meeting new people\, learning together\, and building community connections 💬❤️\n\n📍 All welcome!\n📞 Contact Ann 0874950251 to book your place.
URL:https://liffeypartnership.ie/events/sewing-workshop/
LOCATION:Orchard Community Centre\, Cherry Orchard Grove\, Cherry Orchard\,\, Dublin 10\, D10 H024\, Ireland
ORGANIZER;CN="Ann Geraghty":MAILTO:ageraghty@liffeypartnership.ie
END:VEVENT
BEGIN:VEVENT
DTSTART;TZID=Europe/Dublin:20250929T093000
DTEND;TZID=Europe/Dublin:20251119T123000
DTSTAMP:20260425T204913
CREATED:20250721T141900Z
LAST-MODIFIED:20250813T101830Z
UID:10000685-1759138200-1763555400@liffeypartnership.ie
SUMMARY:Pre-Employment Home Visitor Course
DESCRIPTION:Every Monday & Wednesday\, 9:30am–12:30pm\n📍 4 Drumfinn Park\, Ballyfermot\, D10\n📅 Runs for 8 weeks \nLearn about:\n✅ One-to-one guidance\n✅ Communication skills\n✅ Childcare roles\n✅ Child development & play\n✅ Personal and work skills\n✅ CV writing & job interview tips \n💸 Attendance allowance available \nWe especially welcome people from the Traveller community and ethnic minority backgrounds. \n📞 For more info\, contact:\nSinead – 087 450 6057
URL:https://liffeypartnership.ie/events/pre-employment-home-visitor-course/
LOCATION:Liffey Partnership Office\, 4 Drumfinn Park\, Ballyfermot\, Dublin 10\, D10AY66\, Ireland
ORGANIZER;CN="Sinead Moore":MAILTO:mailto:smoore@liffeypartnership.ie
END:VEVENT
BEGIN:VEVENT
DTSTART;TZID=Europe/Dublin:20251014T080000
DTEND;TZID=Europe/Dublin:20251126T170000
DTSTAMP:20260425T204913
CREATED:20251003T114854Z
LAST-MODIFIED:20251003T115031Z
UID:10000703-1760428800-1764176400@liffeypartnership.ie
SUMMARY:Driver Theory Test Preparation Course
DESCRIPTION:Are you interested in passing your Driver Theory Test? Learn and prepare in a welcoming group session! Use the Driver Theory App to fully prepare for your test! \nStart Date: Tuesday 14th October \nEach Tuesday and Wednesday morning from 9.45am to 11.15am for 7 weeks \nVenue: Liffey Partnership\, 4 Drumfinn Park\, Ballyfermot \nContact: Alison Mulholland: 087 1990913 \nEmail Alison
URL:https://liffeypartnership.ie/events/driver-theory-test-preparation-course/
LOCATION:Liffey Partnership Office\, 4 Drumfinn Park\, Ballyfermot\, Dublin 10\, D10AY66\, Ireland
ORGANIZER;CN="Alison Mulholland":MAILTO:amulholland@liffeypartnership.ie
END:VEVENT
BEGIN:VEVENT
DTSTART;TZID=Europe/Dublin:20251014T113000
DTEND;TZID=Europe/Dublin:20251126T130000
DTSTAMP:20260425T204913
CREATED:20251003T114629Z
LAST-MODIFIED:20251003T115033Z
UID:10000702-1760441400-1764162000@liffeypartnership.ie
SUMMARY:Kickstart/Basic IT Course
DESCRIPTION:Are you new to using a computer! Learn how to use a laptop or bring your own device\, search on the internet\, shop online and send emails! Learn new skills in a welcoming and supportive environment! \nStart Date: Tuesday 14th October \nEach Tuesday and Wednesday morning from 11.30am to 1pm. \nVenue: Liffey Partnership\, 4 Drumfinn Park\, Ballyfermot \nContact: Alison Mulholland: 087 1990913 \nEmail Alison
URL:https://liffeypartnership.ie/events/kickstart-basic-it-course-4/
LOCATION:Liffey Partnership Office\, 4 Drumfinn Park\, Ballyfermot\, Dublin 10\, D10AY66\, Ireland
ORGANIZER;CN="Alison Mulholland":MAILTO:amulholland@liffeypartnership.ie
END:VEVENT
BEGIN:VEVENT
DTSTART;TZID=Europe/Dublin:20251103T101500
DTEND;TZID=Europe/Dublin:20260211T123000
DTSTAMP:20260425T204913
CREATED:20251024T083448Z
LAST-MODIFIED:20251024T103904Z
UID:10000705-1762164900-1770813000@liffeypartnership.ie
SUMMARY:Heads Up for Women
DESCRIPTION:Heads Up for Women is a mental health programme that helps you to: \n\nNurture yourself to manage stress in your life.\nTo help your anxiety and rediscover your creativity and sense of fun.\nDiscover what brings you joy and purpose.\nBe more confident in communicating and reaching out to others (asking for help might be better here? You can decide.)\nFind your way through change.\nPersonal Development\n\nThe Heads Up for Women programme runs 2 mornings a week – Mondays & Wednesdays from 10 am to 12:30pm in the library in Ballyfermot. The programme begins on Monday November 3rd for 6 weeks with a break for Christmas and resumes for 6 more weeks afterwards. If you have any questions \nBook Your Place
URL:https://liffeypartnership.ie/events/heads-up-for-women/
LOCATION:Ballyfermot Library\, Ballyfermot Rd\, Kylemore\, Dublin 10\, D10 WV02
ORGANIZER;CN="Tom Conroy":MAILTO:tconroy@liffeypartnership.ie
END:VEVENT
END:VCALENDAR