BEGIN:VCALENDAR
VERSION:2.0
PRODID:-//Liffey Partnership - ECPv6.15.20//NONSGML v1.0//EN
CALSCALE:GREGORIAN
METHOD:PUBLISH
X-ORIGINAL-URL:https://liffeypartnership.ie
X-WR-CALDESC:Events for Liffey Partnership
REFRESH-INTERVAL;VALUE=DURATION:PT1H
X-Robots-Tag:noindex
X-PUBLISHED-TTL:PT1H
BEGIN:VTIMEZONE
TZID:Europe/Dublin
BEGIN:STANDARD
TZOFFSETFROM:+0000
TZOFFSETTO:+0100
TZNAME:IST
DTSTART:20240331T010000
END:STANDARD
BEGIN:DAYLIGHT
TZOFFSETFROM:+0100
TZOFFSETTO:+0000
TZNAME:GMT
DTSTART:20241027T010000
END:DAYLIGHT
BEGIN:STANDARD
TZOFFSETFROM:+0000
TZOFFSETTO:+0100
TZNAME:IST
DTSTART:20250330T010000
END:STANDARD
BEGIN:DAYLIGHT
TZOFFSETFROM:+0100
TZOFFSETTO:+0000
TZNAME:GMT
DTSTART:20251026T010000
END:DAYLIGHT
BEGIN:STANDARD
TZOFFSETFROM:+0000
TZOFFSETTO:+0100
TZNAME:IST
DTSTART:20260329T010000
END:STANDARD
BEGIN:DAYLIGHT
TZOFFSETFROM:+0100
TZOFFSETTO:+0000
TZNAME:GMT
DTSTART:20261025T010000
END:DAYLIGHT
END:VTIMEZONE
BEGIN:VEVENT
DTSTART;TZID=Europe/Dublin:20250526T100000
DTEND;TZID=Europe/Dublin:20250623T120000
DTSTAMP:20260425T163755
CREATED:20250430T153703Z
LAST-MODIFIED:20250430T154607Z
UID:10000035-1748253600-1750680000@liffeypartnership.ie
SUMMARY:Finding Your Voice
DESCRIPTION:A 4-week discovery to rediscover your confidence & presence. \nFinding Your Voice is a 4 week discovery to rediscover your confidence & presence.  \n\nMay 26th – Reconnecting with your voice and story\nJune 9th – Speaking with presence and authenticity\nJune 16th – Finding your expression in conversations and opportunities\nJune 23rd – Owning your voice and stepping forward\n\nSt Ultan’s School\, Cherry Orchard\, D10 NY53. \nContact Sinéad by phone (0874506057) or email (click button) to \nBook Your Place
URL:https://liffeypartnership.ie/events/finding-your-voice/
LOCATION:St Ultan’s School\, St Ultan's School\, Cherry Orchard Ave\, Cherry Orchard\, Dublin\, Dublin 10\, D10NY53\, Ireland
ORGANIZER;CN="Sinead Moore":MAILTO:mailto:smoore@liffeypartnership.ie
END:VEVENT
BEGIN:VEVENT
DTSTART;TZID=Europe/Dublin:20250603T094500
DTEND;TZID=Europe/Dublin:20250723T111500
DTSTAMP:20260425T163755
CREATED:20250508T082649Z
LAST-MODIFIED:20250508T082649Z
UID:10000037-1748943900-1753269300@liffeypartnership.ie
SUMMARY:Driver Theory Test Course
DESCRIPTION:Are you interested in passing your Driver Theory Test? \nLearn and prepare in a welcoming group session! Use the Driver Theory App to fully prepare for your test! \nWhen? Tuesday 3rd June: Each Tuesday and Thursday morning for 7 weeks from 9.45am to 11.15am. \nWhere? Liffey Partnership\, 4 Drumfinn Park\, Ballyfermot \nContact Alison for more info
URL:https://liffeypartnership.ie/events/driver-theory-test-course-2/
LOCATION:Liffey Partnership Office\, 4 Drumfinn Park\, Ballyfermot\, Dublin 10\, D10AY66\, Ireland
ATTACH;FMTTYPE=image/jpeg:https://liffeypartnership.ie/wp-content/uploads/2024/10/morgan-rovang-t38nvd1DF3o-unsplash-scaled.jpg
ORGANIZER;CN="Alison Mulholland":MAILTO:amulholland@liffeypartnership.ie
END:VEVENT
BEGIN:VEVENT
DTSTART;TZID=Europe/Dublin:20250603T100000
DTEND;TZID=Europe/Dublin:20250603T120000
DTSTAMP:20260425T163755
CREATED:20250512T104829Z
LAST-MODIFIED:20250512T115759Z
UID:10000674-1748944800-1748952000@liffeypartnership.ie
SUMMARY:Heads Up - Mens Health & Wellbeing Programme
DESCRIPTION:The Heads Up Mens Health & Wellbeing Programme is coming back to St Andrews\, starting on the 3rd June at 10 am. This is a once a week for 2 hours programme which helps men to become more aware of how to manage their mental health and wellness. Supports men struggling with isolation\, lack of routine\, stress and anxiety or who wish to have a chat and get out of the house. \nWhen: Every Tuesday for 6 weeks\, 10am-12pm\, June 3rd to July 8th\nContact: Tom Conroy tconroy@liffeypartnership.ie and at 0873837386.\n\nBook Your Place
URL:https://liffeypartnership.ie/events/heads-up-mens-health-wellbeing-programme/
LOCATION:St. Andrews Community Centre\, St. Andrew’s Community Centre\, 468 South Circular Road\, Rialto\,\, Dublin 8\, D08H51F\, Ireland
ORGANIZER;CN="Tom Conroy":MAILTO:tconroy@liffeypartnership.ie
END:VEVENT
BEGIN:VEVENT
DTSTART;TZID=Europe/Dublin:20250603T113000
DTEND;TZID=Europe/Dublin:20250724T130000
DTSTAMP:20260425T163755
CREATED:20250508T094647Z
LAST-MODIFIED:20250508T094647Z
UID:10000673-1748950200-1753362000@liffeypartnership.ie
SUMMARY:Kickstart Basic IT Course
DESCRIPTION:Are you new to using a computer? \nLearn how to use a laptop\, search on the internet\, shop online and send emails! Learn new skills in a welcoming and supportive environment! \nWhen? Kickstart begins on Tuesday 3rd June. It will run each Tuesday and Thursday morning from 11.30am to 1pm for 5 weeks. \nWhere? Liffey Partnership\, 4 Drumfinn Park\, Ballyfermot \nContact Alison for more info
URL:https://liffeypartnership.ie/events/kickstart-basic-it-course-3/
LOCATION:Liffey Partnership Office\, 4 Drumfinn Park\, Ballyfermot\, Dublin 10\, D10AY66\, Ireland
ATTACH;FMTTYPE=image/jpeg:https://liffeypartnership.ie/wp-content/uploads/2024/04/basic-computer-skills.jpg
ORGANIZER;CN="Alison Mulholland":MAILTO:amulholland@liffeypartnership.ie
END:VEVENT
BEGIN:VEVENT
DTSTART;TZID=Europe/Dublin:20250603T130000
DTEND;TZID=Europe/Dublin:20250603T153000
DTSTAMP:20260425T163755
CREATED:20250523T151104Z
LAST-MODIFIED:20250523T151128Z
UID:10000677-1748955600-1748964600@liffeypartnership.ie
SUMMARY:Healthy Food Made Easy
DESCRIPTION:Healthy Food Made Easy is a 6-week group programme that helps you follow a healthy and affordable diet. We cook a simple\, healthy dish each week that you get to enjoy with new friends in the group. Healthy Food Made Easy is led by community facilitators who are trained in up-to-date healthy eating. We show you the different nutrients and vitamins your body needs to feel its best. This is a great chance to get out of the house\, learn something new which will benefit your health. \nEach course will cover: \n\nShopping on a budget and reading food labels\n\n\nLearning how to cook easy and tasty meals\nChanging your habits\nHow to manage dietary requirements  e.g. Diabetes\, digestive issues or high blood pressure.\nUnderstanding the food pyramid which shows us how to eat a balanced diet\nConversations with a Community Dietician\nHow to manage food issues such as fussy kids\, food waste or cooking for one\n\nWhat do you get? \n\nEveryone who completes the courses will get:\n\n\nParticipant pack with quality appliances to help you (items may vary from picture below)\nCertificate of completion.\nRecipe book full of tasty ideas that you will be well able to make.
URL:https://liffeypartnership.ie/events/healthy-food-made-easy/
LOCATION:Ballyfermot Community Church\, 1 Drumfinn Park\, Drumfinn\, Dublin\, D10TX63\, Ireland
ORGANIZER;CN="Shannon Owens":MAILTO:sowens@liffeypartnership.ie
END:VEVENT
END:VCALENDAR