BEGIN:VCALENDAR
VERSION:2.0
PRODID:-//Liffey Partnership - ECPv6.15.20//NONSGML v1.0//EN
CALSCALE:GREGORIAN
METHOD:PUBLISH
X-ORIGINAL-URL:https://liffeypartnership.ie
X-WR-CALDESC:Events for Liffey Partnership
REFRESH-INTERVAL;VALUE=DURATION:PT1H
X-Robots-Tag:noindex
X-PUBLISHED-TTL:PT1H
BEGIN:VTIMEZONE
TZID:Europe/Dublin
BEGIN:STANDARD
TZOFFSETFROM:+0000
TZOFFSETTO:+0100
TZNAME:IST
DTSTART:20240331T010000
END:STANDARD
BEGIN:DAYLIGHT
TZOFFSETFROM:+0100
TZOFFSETTO:+0000
TZNAME:GMT
DTSTART:20241027T010000
END:DAYLIGHT
BEGIN:STANDARD
TZOFFSETFROM:+0000
TZOFFSETTO:+0100
TZNAME:IST
DTSTART:20250330T010000
END:STANDARD
BEGIN:DAYLIGHT
TZOFFSETFROM:+0100
TZOFFSETTO:+0000
TZNAME:GMT
DTSTART:20251026T010000
END:DAYLIGHT
BEGIN:STANDARD
TZOFFSETFROM:+0000
TZOFFSETTO:+0100
TZNAME:IST
DTSTART:20260329T010000
END:STANDARD
BEGIN:DAYLIGHT
TZOFFSETFROM:+0100
TZOFFSETTO:+0000
TZNAME:GMT
DTSTART:20261025T010000
END:DAYLIGHT
END:VTIMEZONE
BEGIN:VEVENT
DTSTART;TZID=Europe/Dublin:20250526T100000
DTEND;TZID=Europe/Dublin:20250623T120000
DTSTAMP:20260425T163812
CREATED:20250430T153703Z
LAST-MODIFIED:20250430T154607Z
UID:10000035-1748253600-1750680000@liffeypartnership.ie
SUMMARY:Finding Your Voice
DESCRIPTION:A 4-week discovery to rediscover your confidence & presence. \nFinding Your Voice is a 4 week discovery to rediscover your confidence & presence.  \n\nMay 26th – Reconnecting with your voice and story\nJune 9th – Speaking with presence and authenticity\nJune 16th – Finding your expression in conversations and opportunities\nJune 23rd – Owning your voice and stepping forward\n\nSt Ultan’s School\, Cherry Orchard\, D10 NY53. \nContact Sinéad by phone (0874506057) or email (click button) to \nBook Your Place
URL:https://liffeypartnership.ie/events/finding-your-voice/
LOCATION:St Ultan’s School\, St Ultan's School\, Cherry Orchard Ave\, Cherry Orchard\, Dublin\, Dublin 10\, D10NY53\, Ireland
ORGANIZER;CN="Sinead Moore":MAILTO:mailto:smoore@liffeypartnership.ie
END:VEVENT
BEGIN:VEVENT
DTSTART;TZID=Europe/Dublin:20250526T110000
DTEND;TZID=Europe/Dublin:20250526T120000
DTSTAMP:20260425T163812
CREATED:20250523T150535Z
LAST-MODIFIED:20250523T150535Z
UID:10000676-1748257200-1748260800@liffeypartnership.ie
SUMMARY:Pink Planter Workshop
DESCRIPTION:Do you want to learn how to plant your pink planter ? \nIf so\, come get your hands dirty and join us for a fun\, hands-on pink planter workshop as part of our Paint Cherry Orchard Pink Initiative – All are welcome!
URL:https://liffeypartnership.ie/events/pink-planter-workshop/
LOCATION:Cherry Orchard Community Garden\, 11-41 Cherry Orchard Green\, Cherry Orchard\, Dublin 10\, Dublin 10\, D10 XW08\, Ireland
ORGANIZER;CN="Mick Kelly":MAILTO:mkelly@liffeypartnership.ie
END:VEVENT
END:VCALENDAR