BEGIN:VCALENDAR
VERSION:2.0
PRODID:-//Liffey Partnership - ECPv6.15.20//NONSGML v1.0//EN
CALSCALE:GREGORIAN
METHOD:PUBLISH
X-ORIGINAL-URL:https://liffeypartnership.ie
X-WR-CALDESC:Events for Liffey Partnership
REFRESH-INTERVAL;VALUE=DURATION:PT1H
X-Robots-Tag:noindex
X-PUBLISHED-TTL:PT1H
BEGIN:VTIMEZONE
TZID:Europe/Dublin
BEGIN:STANDARD
TZOFFSETFROM:+0000
TZOFFSETTO:+0100
TZNAME:IST
DTSTART:20230326T010000
END:STANDARD
BEGIN:DAYLIGHT
TZOFFSETFROM:+0100
TZOFFSETTO:+0000
TZNAME:GMT
DTSTART:20231029T010000
END:DAYLIGHT
BEGIN:STANDARD
TZOFFSETFROM:+0000
TZOFFSETTO:+0100
TZNAME:IST
DTSTART:20240331T010000
END:STANDARD
BEGIN:DAYLIGHT
TZOFFSETFROM:+0100
TZOFFSETTO:+0000
TZNAME:GMT
DTSTART:20241027T010000
END:DAYLIGHT
BEGIN:STANDARD
TZOFFSETFROM:+0000
TZOFFSETTO:+0100
TZNAME:IST
DTSTART:20250330T010000
END:STANDARD
BEGIN:DAYLIGHT
TZOFFSETFROM:+0100
TZOFFSETTO:+0000
TZNAME:GMT
DTSTART:20251026T010000
END:DAYLIGHT
END:VTIMEZONE
BEGIN:VEVENT
DTSTART;TZID=Europe/Dublin:20241105T094500
DTEND;TZID=Europe/Dublin:20241105T111500
DTSTAMP:20260426T031353
CREATED:20241017T082721Z
LAST-MODIFIED:20241017T084037Z
UID:10000027-1730799900-1730805300@liffeypartnership.ie
SUMMARY:Driver Theory Test Course
DESCRIPTION:Are you interested in passing your Driver Theory Test? \nLearn and prepare in a welcoming group session! Use the Driver Theory App to fully prepare for your test! \nWhen? Tuesday 5th November: Each Tuesday and Thursday morning for 5 weeks from 9.45am to 11.15am \nWhere? Liffey Partnership\, 4 Drumfinn Park\, Ballyfermot \nContact Alison for more info
URL:https://liffeypartnership.ie/events/driver-theory-test-course/
LOCATION:Liffey Partnership Office\, 4 Drumfinn Park\, Ballyfermot\, Dublin 10\, D10AY66\, Ireland
ATTACH;FMTTYPE=image/jpeg:https://liffeypartnership.ie/wp-content/uploads/2024/10/morgan-rovang-t38nvd1DF3o-unsplash-scaled.jpg
ORGANIZER;CN="Alison Mulholland":MAILTO:amulholland@liffeypartnership.ie
END:VEVENT
BEGIN:VEVENT
DTSTART;TZID=Europe/Dublin:20241105T113000
DTEND;TZID=Europe/Dublin:20241105T130000
DTSTAMP:20260426T031353
CREATED:20241017T083048Z
LAST-MODIFIED:20241017T083749Z
UID:10000029-1730806200-1730811600@liffeypartnership.ie
SUMMARY:Kickstart Basic IT Course
DESCRIPTION:Are you new to using a computer? \nLearn how to use a laptop\, search on the internet\, shop online and send emails! Learn new skills in a welcoming and supportive environment! \nWhen? 5th November; Each Tuesday and Thursday morning for 5 weeks from 11.30am to 1pm. \nWhere? Liffey Partnership\, 4 Drumfinn Park\, Ballyfermot \nContact Alison for more info
URL:https://liffeypartnership.ie/events/kickstart-basic-it-course/
LOCATION:Liffey Partnership Office\, 4 Drumfinn Park\, Ballyfermot\, Dublin 10\, D10AY66\, Ireland
ATTACH;FMTTYPE=image/jpeg:https://liffeypartnership.ie/wp-content/uploads/2024/04/basic-computer-skills.jpg
ORGANIZER;CN="Alison Mulholland":MAILTO:amulholland@liffeypartnership.ie
END:VEVENT
END:VCALENDAR