BEGIN:VCALENDAR
VERSION:2.0
PRODID:-//Liffey Partnership - ECPv6.15.20//NONSGML v1.0//EN
CALSCALE:GREGORIAN
METHOD:PUBLISH
X-ORIGINAL-URL:https://liffeypartnership.ie
X-WR-CALDESC:Events for Liffey Partnership
REFRESH-INTERVAL;VALUE=DURATION:PT1H
X-Robots-Tag:noindex
X-PUBLISHED-TTL:PT1H
BEGIN:VTIMEZONE
TZID:Europe/Dublin
BEGIN:STANDARD
TZOFFSETFROM:+0000
TZOFFSETTO:+0100
TZNAME:IST
DTSTART:20230326T010000
END:STANDARD
BEGIN:DAYLIGHT
TZOFFSETFROM:+0100
TZOFFSETTO:+0000
TZNAME:GMT
DTSTART:20231029T010000
END:DAYLIGHT
BEGIN:STANDARD
TZOFFSETFROM:+0000
TZOFFSETTO:+0100
TZNAME:IST
DTSTART:20240331T010000
END:STANDARD
BEGIN:DAYLIGHT
TZOFFSETFROM:+0100
TZOFFSETTO:+0000
TZNAME:GMT
DTSTART:20241027T010000
END:DAYLIGHT
BEGIN:STANDARD
TZOFFSETFROM:+0000
TZOFFSETTO:+0100
TZNAME:IST
DTSTART:20250330T010000
END:STANDARD
BEGIN:DAYLIGHT
TZOFFSETFROM:+0100
TZOFFSETTO:+0000
TZNAME:GMT
DTSTART:20251026T010000
END:DAYLIGHT
END:VTIMEZONE
BEGIN:VEVENT
DTSTART;TZID=Europe/Dublin:20241022T100000
DTEND;TZID=Europe/Dublin:20241024T130000
DTSTAMP:20260426T044908
CREATED:20240816T131335Z
LAST-MODIFIED:20240816T132137Z
UID:10000005-1729591200-1729774800@liffeypartnership.ie
SUMMARY:Start Your Own Business Course
DESCRIPTION:Liffey Partnership will run a Start Your Own Business course for people looking at becoming a business owner. We work on understanding what is involved\, what you need to do to start and where you might be able to access finance. \n\n\nOur next course takes place from October 22nd to 24th so please get in touch to reserve a spot! \n\n\nStart Your Own Business Course participants learn to:\n\n\nExplore a Business Idea\nUnderstand Your Market\nDevelop Your Business Plan\nAttract Customers: Sales and Digital Marketing\nLegal Requirements\, Bookkeeping and Accountancy\nBTWEA/STEA\, the process and key dates.\nProven practical tips and techniques in a relaxed and approachable style.\nSkills and systems to help you improve how you launch your business and how prepared you are to succeed\n\nBook Your Place
URL:https://liffeypartnership.ie/events/start-your-own-business-course/
LOCATION:Liffey Partnership Office\, 4 Drumfinn Park\, Ballyfermot\, Dublin 10\, D10AY66\, Ireland
ORGANIZER;CN="Dave O'Connell":MAILTO:doconnell@liffeypartnership.ie
END:VEVENT
BEGIN:VEVENT
DTSTART;TZID=Europe/Dublin:20241024T100000
DTEND;TZID=Europe/Dublin:20241028T123000
DTSTAMP:20260426T044908
CREATED:20241015T152118Z
LAST-MODIFIED:20241015T152118Z
UID:10000013-1729764000-1730118600@liffeypartnership.ie
SUMMARY:Living Well - A programme for adults with long term health condition
DESCRIPTION:Living Well is a free group programme for adults living with any long-term or chronic condition. It takes place over six weekly workshops (6 x 2.5 hours) in-person. It is delivered by trained leaders\, most of whom are also living with a long-term health condition. \nYou will develop self-management skills and confidence to live well with your health conditions. You will also meet other people who live with long-term health conditions and learn from each other’s experiences. \n\nBook Your Place
URL:https://liffeypartnership.ie/events/living-well-a-programme-for-adults-with-long-term-health-condition/
LOCATION:Liffey Partnership Office\, 4 Drumfinn Park\, Ballyfermot\, Dublin 10\, D10AY66\, Ireland
ORGANIZER;CN="Amy Ryan":MAILTO:aryan@liffeypartnership.ie
END:VEVENT
END:VCALENDAR